BEGIN:VCALENDAR
VERSION:2.0
PRODID:-//Squarespace Inc/Squarespace 6//v6//EN
BEGIN:VEVENT
UID:5e4b42d679fe5b341b675341@squarespace.com
DTSTAMP:20200218T015415Z
DTSTART:20200523T010000Z
DTEND:20200530T080000Z
SUMMARY:REIKI: LVL 2
GEO:-33.82209;151.237225
LOCATION:WOKE YOGA\, 52 Ourimbah Road\, Mosman\, NSW\, 2088\, Australia
END:VEVENT
END:VCALENDAR
