BEGIN:VCALENDAR
VERSION:2.0
PRODID:-//Squarespace Inc/Squarespace 6//v6//EN
BEGIN:VEVENT
UID:5e4b3eb279fe5b341b665f83@squarespace.com
DTSTAMP:20200218T013507Z
DTSTART:20200322T030000Z
DTEND:20200322T050000Z
SUMMARY:Autumn Rest
GEO:-33.82209;151.237225
LOCATION:WOKE YOGA\, 2/52 OURIMBAH RD\, MOSMAN\, AUSTRALIA
END:VEVENT
END:VCALENDAR
