BEGIN:VCALENDAR
VERSION:2.0
PRODID:-//Squarespace Inc/Squarespace 6//v6//EN
BEGIN:VEVENT
UID:5e15896c9d597266748b9b0c@squarespace.com
DTSTAMP:20200108T080514Z
DTSTART:20200201T010000Z
DTEND:20200201T030000Z
SUMMARY:Cool the Fire &amp\;  Soothe the Soul
GEO:-33.82209;151.237225
LOCATION:Woke Yoga\, 2/52 Ourimbah Rd\,\, Mosman NSW 2088\, Australia
END:VEVENT
END:VCALENDAR
