BEGIN:VCALENDAR
VERSION:2.0
PRODID:-//Squarespace Inc/Squarespace 6//v6//EN
BEGIN:VEVENT
UID:5d772bc006b2cb050b326572@squarespace.com
DTSTAMP:20190925T052240Z
DTSTART:20191123T000000Z
DTEND:20191123T070000Z
SUMMARY:Reiki LVL 1 - Attunement for Self Care
GEO:-33.82209;151.237225
LOCATION:Woke Yoga\, 2/52 Ourimbah Road\, Mosman\, NSW\, 2088\, Australia
END:VEVENT
END:VCALENDAR
