BEGIN:VCALENDAR
VERSION:2.0
PRODID:-//Squarespace Inc/Squarespace 6//v6//EN
BEGIN:VEVENT
UID:5d284adfeae51f0001c44c1e@squarespace.com
DTSTAMP:20190918T033018Z
DTSTART:20190801T003000Z
DTEND:20190926T013000Z
SUMMARY:THE HUSH HOUR 3.0 Thursday Mornings
GEO:-33.82209;151.237225
LOCATION:WOKE YOGA\, 52 Ourimbah Road\, Mosman\, NSW\, 2088\, Australia
END:VEVENT
END:VCALENDAR
