BEGIN:VCALENDAR
VERSION:2.0
PRODID:-//Squarespace Inc/Squarespace 6//v6//EN
BEGIN:VEVENT
UID:5d81c8b9f19ab602336a22a6@squarespace.com
DTSTAMP:20190918T060911Z
DTSTART:20191117T030000Z
DTEND:20191117T050000Z
SUMMARY:YIN + PINS 
GEO:-33.82209;151.237225
LOCATION:Woke Yoga\, 52 Ourimbah Road\, Mosman\, NSW\, 2088\, Australia
END:VEVENT
END:VCALENDAR
