BEGIN:VCALENDAR
VERSION:2.0
PRODID:-//Squarespace Inc/Squarespace 6//v6//EN
BEGIN:VEVENT
UID:5d9c04e8d3bb4424f4ee8ed1@squarespace.com
DTSTAMP:20191014T045943Z
DTSTART:20191208T030000Z
DTEND:20191208T050000Z
SUMMARY:REST
GEO:-33.82209;151.237225
LOCATION:Woke Yoga\, 52 Ourimbah Road\, Mosman\, NSW\, 2088\, Australia
END:VEVENT
END:VCALENDAR
