BEGIN:VCALENDAR
VERSION:2.0
PRODID:-//Squarespace Inc/Squarespace 6//v6//EN
BEGIN:VEVENT
UID:5d71f7a02a938a0001f69693@squarespace.com
DTSTAMP:20190925T050246Z
DTSTART:20191012T030000Z
DTEND:20191012T050000Z
SUMMARY:Yin &amp\; Reiki - A Journey into Wholeness
GEO:-33.82209;151.237225
LOCATION:Woke Yoga\, 2/52 Ourimbah Rd\, Mosman\, Australia
END:VEVENT
END:VCALENDAR
